BEGIN:VCALENDAR
VERSION:2.0
PRODID:-//Chamberlain Studios of Self Defense - ECPv6.15.20//NONSGML v1.0//EN
CALSCALE:GREGORIAN
METHOD:PUBLISH
X-WR-CALNAME:Chamberlain Studios of Self Defense
X-ORIGINAL-URL:https://dallaskenpo.com
X-WR-CALDESC:Events for Chamberlain Studios of Self Defense
REFRESH-INTERVAL;VALUE=DURATION:PT1H
X-Robots-Tag:noindex
X-PUBLISHED-TTL:PT1H
BEGIN:VTIMEZONE
TZID:America/Mexico_City
BEGIN:DAYLIGHT
TZOFFSETFROM:-0600
TZOFFSETTO:-0500
TZNAME:CDT
DTSTART:20240407T080000
END:DAYLIGHT
BEGIN:STANDARD
TZOFFSETFROM:-0500
TZOFFSETTO:-0600
TZNAME:CST
DTSTART:20241027T070000
END:STANDARD
BEGIN:DAYLIGHT
TZOFFSETFROM:-0600
TZOFFSETTO:-0500
TZNAME:CDT
DTSTART:20250406T080000
END:DAYLIGHT
BEGIN:STANDARD
TZOFFSETFROM:-0500
TZOFFSETTO:-0600
TZNAME:CST
DTSTART:20251026T070000
END:STANDARD
BEGIN:DAYLIGHT
TZOFFSETFROM:-0600
TZOFFSETTO:-0500
TZNAME:CDT
DTSTART:20260405T080000
END:DAYLIGHT
BEGIN:STANDARD
TZOFFSETFROM:-0500
TZOFFSETTO:-0600
TZNAME:CST
DTSTART:20261025T070000
END:STANDARD
BEGIN:DAYLIGHT
TZOFFSETFROM:-0600
TZOFFSETTO:-0500
TZNAME:CDT
DTSTART:20270404T080000
END:DAYLIGHT
BEGIN:STANDARD
TZOFFSETFROM:-0500
TZOFFSETTO:-0600
TZNAME:CST
DTSTART:20271031T070000
END:STANDARD
END:VTIMEZONE
BEGIN:VEVENT
DTSTART;VALUE=DATE:20251224
DTEND;VALUE=DATE:20260102
DTSTAMP:20260420T175248
CREATED:20241229T231249Z
LAST-MODIFIED:20251220T222531Z
UID:15503-1766534400-1767311999@dallaskenpo.com
SUMMARY:Dojo Closed for Holiday Break
DESCRIPTION:The dojo is closed for a winter break from December 24 – January 1\, 2026.
URL:https://dallaskenpo.com/event/dojo-closed-for-holiday-break/
CATEGORIES:Featured 2
END:VEVENT
BEGIN:VEVENT
DTSTART;TZID=America/Mexico_City:20260102T080000
DTEND;TZID=America/Mexico_City:20260102T163000
DTSTAMP:20260420T175248
CREATED:20241229T225609Z
LAST-MODIFIED:20251220T222538Z
UID:15482-1767340800-1767371400@dallaskenpo.com
SUMMARY:Winter Ninja Camp - 1/2/26
DESCRIPTION:
URL:https://dallaskenpo.com/event/winter-ninja-camp-1-2-26/
CATEGORIES:Featured 3,Winter Ninja Camp
END:VEVENT
BEGIN:VEVENT
DTSTART;TZID=America/Mexico_City:20260105T080000
DTEND;TZID=America/Mexico_City:20260105T163000
DTSTAMP:20260420T175248
CREATED:20241229T225709Z
LAST-MODIFIED:20260103T000807Z
UID:15484-1767600000-1767630600@dallaskenpo.com
SUMMARY:Winter Ninja Camp - 1/5/2026
DESCRIPTION:When schools close\, OUR DOORS ARE OPEN!\nWhether they’ve never tried karate before or they’re longstanding students\, if you’re looking to keep your kids moving over the break\, and safely\, try out Winter Ninja Camp\, where we cover things like: \n\nStriking and kicking drills\nSelf-defense techniques utilizing “shadow partners”\nMartial arts forms (Kata) and history\nPersonal safety tips\nAnd so much more!
URL:https://dallaskenpo.com/event/winter-ninja-camp-1-5-2026/
CATEGORIES:Featured 1,Winter Ninja Camp
END:VEVENT
BEGIN:VEVENT
DTSTART;TZID=America/Mexico_City:20260109T183000
DTEND;TZID=America/Mexico_City:20260109T200000
DTSTAMP:20260420T175248
CREATED:20251222T031010Z
LAST-MODIFIED:20260106T031008Z
UID:17390-1767983400-1767988800@dallaskenpo.com
SUMMARY:Leadership Class & Meeting
DESCRIPTION:The Leadership Program will meet on the first Thursday of every month (excluding January)\, from 6:30-8:00pm. \nCSSD students can join the leadership program at purple belt and at least 9 years of age\, and all are expected to participate by the time they advance to the rank of blue belt. \nWe will meet the 1st Thursday of every month to learn “instructor training” tips on helping in classes\, to work on fun off-curriculum and advanced material\, to learn about the history of the martial arts and Gasan Ryu Kenpo\, to discuss ways to incorporate leadership skills into other areas of life\, and more! \nClass: 6:30-7:15pm\nMeeting: 7:15-8:00pm
URL:https://dallaskenpo.com/event/leadership-class-meeting-jan-2026/
CATEGORIES:Featured 1
END:VEVENT
BEGIN:VEVENT
DTSTART;TZID=America/Mexico_City:20260110T130000
DTEND;TZID=America/Mexico_City:20260110T153000
DTSTAMP:20260420T175248
CREATED:20260105T014516Z
LAST-MODIFIED:20260106T031017Z
UID:17415-1768050000-1768059000@dallaskenpo.com
SUMMARY:Weapons Seminar: Nunchucku & Kama
DESCRIPTION:Professor Chamberlain is teaching two weapons katas on Saturday January 10: Nunchuku and Kama. \nNunchuku: 1-2 pm \nKama: 2-3 pm \nThese seminars are for age 7 and up. $45 for each seminar. \nThis year we will have two weapons kata divisions: one for ranks up to 2nd Blue\, and another for Green belts and up. \nPlease contact Sensei Genevieve with any questions on weapons.
URL:https://dallaskenpo.com/event/17415/
LOCATION:Lakewood Dojo\, 2114 Kidwell St.\, Dallas\, TX\, 75214\, United States
CATEGORIES:Featured 2,Tournament
END:VEVENT
BEGIN:VEVENT
DTSTART;TZID=America/Mexico_City:20260111T110000
DTEND;TZID=America/Mexico_City:20260111T130000
DTSTAMP:20260420T175248
CREATED:20260105T015026Z
LAST-MODIFIED:20260106T031028Z
UID:17419-1768129200-1768136400@dallaskenpo.com
SUMMARY:Weapons Seminar: Sai & Sword
DESCRIPTION:Professor Chamberlain is teaching three weapons katas on Sunday January 11: Sai and Sword (katana) \nSword: 11 am – 12 pm \nSai: 12 pm – 1 pm \nThese seminars are for age 7 and up. $45 for each seminar. \nThis year we will have two weapons kata divisions: one for ranks up to 2nd Blue\, and another for Green belts and up. \nPlease contact Sensei Genevieve with any questions on weapons.
URL:https://dallaskenpo.com/event/weapons-seminar-sai-sword/
LOCATION:Lakewood Dojo\, 2114 Kidwell St.\, Dallas\, TX\, 75214\, United States
CATEGORIES:Featured 3,Tournament
END:VEVENT
BEGIN:VEVENT
DTSTART;TZID=America/Mexico_City:20260117T080000
DTEND;TZID=America/Mexico_City:20260117T170000
DTSTAMP:20260420T175248
CREATED:20260105T015144Z
LAST-MODIFIED:20260105T015231Z
UID:17422-1768636800-1768669200@dallaskenpo.com
SUMMARY:Weapons Seminar: Bo Staff
DESCRIPTION:Professor Chamberlain is teaching three weapons katas on Saturday January 17: Sai\, Sword (katana)\, and Nunchaku. \nBo Staff: 1 pm – 2 pm \nThese seminars are for age 7 and up. $45 for each seminar. \nThis year we will have two weapons kata divisions: one for ranks up to 2nd Blue\, and another for Green belts and up. \nPlease contact Sensei Genevieve with any questions on weapons.
URL:https://dallaskenpo.com/event/weapons-seminar-bo-staff/
CATEGORIES:Tournament
END:VEVENT
BEGIN:VEVENT
DTSTART;TZID=America/Mexico_City:20260119T080000
DTEND;TZID=America/Mexico_City:20260119T163000
DTSTAMP:20260420T175248
CREATED:20260105T015607Z
LAST-MODIFIED:20260117T032227Z
UID:17429-1768809600-1768840200@dallaskenpo.com
SUMMARY:MLK Day Ninja Camp
DESCRIPTION:School is out for MLK Day on Monday\, 1/19/26\, but the dojo is open for camp!  Sign your child up today for a fun-filled day of martial arts & games!  This is the perfect opportunity for new students to try out karate\, and great for our existing students to get some extra training in. \nCome join us!
URL:https://dallaskenpo.com/event/mlk-day-ninja-camp-4/
LOCATION:Lakewood Dojo\, 2114 Kidwell St.\, Dallas\, TX\, 75214\, United States
CATEGORIES:Featured 1,Ninja Camp
END:VEVENT
BEGIN:VEVENT
DTSTART;TZID=America/Mexico_City:20260127T190000
DTEND;TZID=America/Mexico_City:20260127T203000
DTSTAMP:20260420T175248
CREATED:20251222T031958Z
LAST-MODIFIED:20260121T040744Z
UID:17393-1769540400-1769545800@dallaskenpo.com
SUMMARY:Instructor Training & Meeting
DESCRIPTION:Join us on the last Tuesday of every month for the instructor meeting and training (excluding December). \nOur instructor training program is designed for the person that wants to become more involved in the martial arts.  It will enable you to either help out with class or to become a fully qualified instructor and run classes yourself\, it’s your choice how involved you become! \n 
URL:https://dallaskenpo.com/event/instructor-training-meeting-7/
CATEGORIES:Featured 1,Instructor Training
END:VEVENT
BEGIN:VEVENT
DTSTART;TZID=America/Mexico_City:20260130T183000
DTEND;TZID=America/Mexico_City:20260130T200000
DTSTAMP:20260420T175248
CREATED:20260103T001044Z
LAST-MODIFIED:20260121T040752Z
UID:17410-1769797800-1769803200@dallaskenpo.com
SUMMARY:Kids Belt Test: January
DESCRIPTION:When you have all six of the colored skills stripes\, you may be promoted to the next rank. Younger students are promoted in class\, while students age 7 and up with all of their stripes are eligible for the cumulative belt test on the last Friday of the month. \nThe test is cumulative\, it covers everything you have learned since day one… not just the recent material. \nBelt tests take place at Lakewood Dojo. \nThe only exception to this is if your child is a ZOOM online student only. All other students must test In Person. Zoom tests must be arranged ahead of time with Sensei Genevieve. Email info@dallaskenpo.com ahead of time to arrange a test for a Zoom-only student.
URL:https://dallaskenpo.com/event/kids-belt-test-january-2/
LOCATION:Lakewood Dojo\, 2114 Kidwell St.\, Dallas\, TX\, 75214\, United States
CATEGORIES:Featured 2
END:VEVENT
BEGIN:VEVENT
DTSTART;TZID=America/Mexico_City:20260131T120000
DTEND;TZID=America/Mexico_City:20260131T143000
DTSTAMP:20260420T175248
CREATED:20260105T015840Z
LAST-MODIFIED:20260121T040758Z
UID:17431-1769860800-1769869800@dallaskenpo.com
SUMMARY:Tournament Prep Seminar
DESCRIPTION:Come join us at the Lakewood Dojo for a FREE Tournament Prep Seminar for your student. Instructors will walk the students through the “do’s” and “don’ts” of the Tournament\, in addition to personalized instruction on the techniques each student wishes to show in competition. All students planning on competing in the tournament are welcome at this workshop! \nWhite – 2nd Yellow Belts: 12-1 pm \nOrange & Up: 1:30 – 2:30 PM
URL:https://dallaskenpo.com/event/tournament-prep-seminar-2026/
LOCATION:Lakewood Dojo\, 2114 Kidwell St.\, Dallas\, TX\, 75214\, United States
CATEGORIES:Featured 3,Tournament
END:VEVENT
END:VCALENDAR