BEGIN:VCALENDAR
VERSION:2.0
PRODID:-//Chamberlain Studios of Self Defense - ECPv6.15.20//NONSGML v1.0//EN
CALSCALE:GREGORIAN
METHOD:PUBLISH
X-WR-CALNAME:Chamberlain Studios of Self Defense
X-ORIGINAL-URL:https://dallaskenpo.com
X-WR-CALDESC:Events for Chamberlain Studios of Self Defense
REFRESH-INTERVAL;VALUE=DURATION:PT1H
X-Robots-Tag:noindex
X-PUBLISHED-TTL:PT1H
BEGIN:VTIMEZONE
TZID:America/Mexico_City
BEGIN:DAYLIGHT
TZOFFSETFROM:-0600
TZOFFSETTO:-0500
TZNAME:CDT
DTSTART:20220403T080000
END:DAYLIGHT
BEGIN:STANDARD
TZOFFSETFROM:-0500
TZOFFSETTO:-0600
TZNAME:CST
DTSTART:20221030T070000
END:STANDARD
BEGIN:DAYLIGHT
TZOFFSETFROM:-0600
TZOFFSETTO:-0500
TZNAME:CDT
DTSTART:20230402T080000
END:DAYLIGHT
BEGIN:STANDARD
TZOFFSETFROM:-0500
TZOFFSETTO:-0600
TZNAME:CST
DTSTART:20231029T070000
END:STANDARD
BEGIN:DAYLIGHT
TZOFFSETFROM:-0600
TZOFFSETTO:-0500
TZNAME:CDT
DTSTART:20240407T080000
END:DAYLIGHT
BEGIN:STANDARD
TZOFFSETFROM:-0500
TZOFFSETTO:-0600
TZNAME:CST
DTSTART:20241027T070000
END:STANDARD
END:VTIMEZONE
BEGIN:VEVENT
DTSTART;TZID=America/Mexico_City:20231005T183000
DTEND;TZID=America/Mexico_City:20231005T200000
DTSTAMP:20260420T205022
CREATED:20221220T204738Z
LAST-MODIFIED:20231001T220301Z
UID:10958-1696530600-1696536000@dallaskenpo.com
SUMMARY:Leadership Class & Meeting
DESCRIPTION:The Leadership Program will meet on the first Thursday of every month\, from 6:30-8:00pm. \nCSSD students can join the leadership program at purple belt and at least 9 years of age\, and all are expected to participate by the time they advance to the rank of blue belt. \nWe will meet the 1st Thursday of every month to learn “instructor training” tips on helping in classes\, to work on fun off-curriculum and advanced material\, to learn about the history of the martial arts and Gasan Ryu Kenpo\, to discuss ways to incorporate leadership skills into other areas of life\, and more! \nClass: 6:30-7:15pm\nMeeting: 7:15-8:00pm
URL:https://dallaskenpo.com/event/leadership-class-meeting-8/
LOCATION:Lakewood Dojo\, 2114 Kidwell St.\, Dallas\, TX\, 75214\, United States
CATEGORIES:Featured 1,Leadership
END:VEVENT
BEGIN:VEVENT
DTSTART;TZID=America/Mexico_City:20230929T183000
DTEND;TZID=America/Mexico_City:20230929T200000
DTSTAMP:20260420T205022
CREATED:20221222T221045Z
LAST-MODIFIED:20230927T231100Z
UID:11009-1696012200-1696017600@dallaskenpo.com
SUMMARY:Kids Belt Test - September
DESCRIPTION:When you have all six of the colored skills stripes\, you may be promoted to the next rank. Younger students are promoted in class\, while students age 7 and up with all of their stripes are eligible for the cumulative belt test on the last Friday of the month. \nThe test is cumulative\, it covers everything you have learned since day one… not just the recent material. \nBelt tests take place at Lakewood Dojo. \nThe only exception to this is if your child is a ZOOM online student only. All other students must test In Person. Zoom tests must be arranged ahead of time with Sensei Genevieve. Email info@dallaskenpo.com ahead of time to arrange a test for a Zoom-only student.
URL:https://dallaskenpo.com/event/kids-belt-test-september-2023/
LOCATION:Lakewood Dojo\, 2114 Kidwell St.\, Dallas\, TX\, 75214\, United States
CATEGORIES:Belt Test,Featured 1,Kids
END:VEVENT
BEGIN:VEVENT
DTSTART;VALUE=DATE:20231007
DTEND;VALUE=DATE:20231010
DTSTAMP:20260420T205022
CREATED:20221230T041504Z
LAST-MODIFIED:20231001T220218Z
UID:11086-1696636800-1696895999@dallaskenpo.com
SUMMARY:Dojo Closed for Warrior Weekend
DESCRIPTION:The dojo is closed for Warrior Weekend.
URL:https://dallaskenpo.com/event/dojo-closed-for-warrior-weekend-2023/
CATEGORIES:Events,Featured 2,Warrior Weekend
END:VEVENT
BEGIN:VEVENT
DTSTART;TZID=America/Mexico_City:20230907T183000
DTEND;TZID=America/Mexico_City:20230907T200000
DTSTAMP:20260420T205022
CREATED:20221220T204643Z
LAST-MODIFIED:20230906T030948Z
UID:10956-1694111400-1694116800@dallaskenpo.com
SUMMARY:Leadership Class & Meeting
DESCRIPTION:The Leadership Program will meet on the first Thursday of every month\, from 6:30-8:00pm. \nCSSD students can join the leadership program at purple belt and at least 9 years of age\, and all are expected to participate by the time they advance to the rank of blue belt. \nWe will meet the 1st Thursday of every month to learn “instructor training” tips on helping in classes\, to work on fun off-curriculum and advanced material\, to learn about the history of the martial arts and Gasan Ryu Kenpo\, to discuss ways to incorporate leadership skills into other areas of life\, and more! \nClass: 6:30-7:15pm\nMeeting: 7:15-8:00pm
URL:https://dallaskenpo.com/event/leadership-class-meeting-7/
LOCATION:Lakewood Dojo\, 2114 Kidwell St.\, Dallas\, TX\, 75214\, United States
CATEGORIES:Featured 1,Leadership
END:VEVENT
BEGIN:VEVENT
DTSTART;VALUE=DATE:20230904
DTEND;VALUE=DATE:20230905
DTSTAMP:20260420T205022
CREATED:20230902T134520Z
LAST-MODIFIED:20230902T134520Z
UID:12384-1693785600-1693871999@dallaskenpo.com
SUMMARY:Closed for Labor Day
DESCRIPTION:We will be closed for Labor Day. Classes resume on Tuesday\, September 5th.
URL:https://dallaskenpo.com/event/closed-for-labor-day/
CATEGORIES:Featured 1
END:VEVENT
BEGIN:VEVENT
DTSTART;TZID=America/Mexico_City:20230829T203000
DTEND;TZID=America/Mexico_City:20230829T223000
DTSTAMP:20260420T205022
CREATED:20221230T035431Z
LAST-MODIFIED:20230827T220713Z
UID:11066-1693341000-1693348200@dallaskenpo.com
SUMMARY:Instructor Meeting & Training - August
DESCRIPTION:Join us on the last Tuesday of every month for the instructor meeting and training. \nOur instructor training program is designed for the person that wants to become more involved in the martial arts.  It will enable you to either help out with class or to become a fully qualified instructor and run classes yourself\, it’s your choice how involved you become! \n 
URL:https://dallaskenpo.com/event/instructor-meeting-training-august/
LOCATION:Lakewood Dojo\, 2114 Kidwell St.\, Dallas\, TX\, 75214\, United States
CATEGORIES:Adults,Featured 1,Instructor Training
END:VEVENT
BEGIN:VEVENT
DTSTART;TZID=America/Mexico_City:20230829T183000
DTEND;TZID=America/Mexico_City:20230829T203000
DTSTAMP:20260420T205022
CREATED:20221230T035209Z
LAST-MODIFIED:20240108T031226Z
UID:11062-1693333800-1693341000@dallaskenpo.com
SUMMARY:Instructor Training & Meeting - August
DESCRIPTION:Join us on the last Tuesday of every month for the instructor meeting and training. \nOur instructor training program is designed for the person that wants to become more involved in the martial arts.  It will enable you to either help out with class or to become a fully qualified instructor and run classes yourself\, it’s your choice how involved you become! \n 
URL:https://dallaskenpo.com/event/instructor-training-meeting-aug1/
LOCATION:Lakewood Dojo\, 2114 Kidwell St.\, Dallas\, TX\, 75214\, United States
CATEGORIES:Adults,Featured 2,Instructor Training
END:VEVENT
BEGIN:VEVENT
DTSTART;TZID=America/Mexico_City:20230825T183000
DTEND;TZID=America/Mexico_City:20230825T200000
DTSTAMP:20260420T205022
CREATED:20221222T220951Z
LAST-MODIFIED:20230815T233359Z
UID:11007-1692988200-1692993600@dallaskenpo.com
SUMMARY:Kids Belt Test - August
DESCRIPTION:When you have all six of the colored skills stripes\, you may be promoted to the next rank. Younger students are promoted in class\, while students age 7 and up with all of their stripes are eligible for the cumulative belt test on the last Friday of the month. \nThe test is cumulative\, it covers everything you have learned since day one… not just the recent material. \nBelt tests take place at Lakewood Dojo. \nThe only exception to this is if your child is a ZOOM online student only. All other students must test In Person. Zoom tests must be arranged ahead of time with Sensei Genevieve. Email info@dallaskenpo.com ahead of time to arrange a test for a Zoom-only student.
URL:https://dallaskenpo.com/event/kids-belt-test-august-2023/
LOCATION:Lakewood Dojo\, 2114 Kidwell St.\, Dallas\, TX\, 75214\, United States
CATEGORIES:Belt Test,Featured 1,Kids
END:VEVENT
BEGIN:VEVENT
DTSTART;TZID=America/Mexico_City:20230803T183000
DTEND;TZID=America/Mexico_City:20230803T200000
DTSTAMP:20260420T205022
CREATED:20221220T204558Z
LAST-MODIFIED:20230803T010750Z
UID:10954-1691087400-1691092800@dallaskenpo.com
SUMMARY:Leadership Class & Meeting
DESCRIPTION:The Leadership Program will meet on the first Thursday of every month\, from 6:30-8:00pm. \nCSSD students can join the leadership program at purple belt and at least 9 years of age\, and all are expected to participate by the time they advance to the rank of blue belt. \nWe will meet the 1st Thursday of every month to learn “instructor training” tips on helping in classes\, to work on fun off-curriculum and advanced material\, to learn about the history of the martial arts and Gasan Ryu Kenpo\, to discuss ways to incorporate leadership skills into other areas of life\, and more! \nClass: 6:30-7:15pm\nMeeting: 7:15-8:00pm
URL:https://dallaskenpo.com/event/leadership-class-meeting-august-2023/
LOCATION:Lakewood Dojo\, 2114 Kidwell St.\, Dallas\, TX\, 75214\, United States
CATEGORIES:Featured 1,Leadership
END:VEVENT
BEGIN:VEVENT
DTSTART;TZID=America/Mexico_City:20230728T183000
DTEND;TZID=America/Mexico_City:20230728T200000
DTSTAMP:20260420T205022
CREATED:20221222T220845Z
LAST-MODIFIED:20230727T183706Z
UID:11005-1690569000-1690574400@dallaskenpo.com
SUMMARY:Kids Belt Test - July
DESCRIPTION:When you have all six of the colored skills stripes\, you may be promoted to the next rank. Younger students are promoted in class\, while students age 7 and up with all of their stripes are eligible for the cumulative belt test on the last Friday of the month. \nThe test is cumulative\, it covers everything you have learned since day one… not just the recent material. \nBelt tests take place at Lakewood Dojo. \nThe only exception to this is if your child is a ZOOM online student only. All other students must test In Person. Zoom tests must be arranged ahead of time with Sensei Genevieve. Email info@dallaskenpo.com ahead of time to arrange a test for a Zoom-only student.
URL:https://dallaskenpo.com/event/kids-belt-test-july-2023/
LOCATION:Lakewood Dojo\, 2114 Kidwell St.\, Dallas\, TX\, 75214\, United States
CATEGORIES:Belt Test,Featured 1,Kids
END:VEVENT
BEGIN:VEVENT
DTSTART;TZID=America/Mexico_City:20230706T183000
DTEND;TZID=America/Mexico_City:20230706T200000
DTSTAMP:20260420T205022
CREATED:20221220T204512Z
LAST-MODIFIED:20230803T010722Z
UID:10952-1688668200-1688673600@dallaskenpo.com
SUMMARY:Leadership Class & Meeting
DESCRIPTION:The Leadership Program will meet on the first Thursday of every month\, from 6:30-8:00pm. \nCSSD students can join the leadership program at purple belt and at least 9 years of age\, and all are expected to participate by the time they advance to the rank of blue belt. \nWe will meet the 1st Thursday of every month to learn “instructor training” tips on helping in classes\, to work on fun off-curriculum and advanced material\, to learn about the history of the martial arts and Gasan Ryu Kenpo\, to discuss ways to incorporate leadership skills into other areas of life\, and more! \nClass: 6:30-7:15pm\nMeeting: 7:15-8:00pm
URL:https://dallaskenpo.com/event/leadership-class-meeting-july-2023/
LOCATION:Lakewood Dojo\, 2114 Kidwell St.\, Dallas\, TX\, 75214\, United States
CATEGORIES:Featured 1,Leadership
END:VEVENT
BEGIN:VEVENT
DTSTART;VALUE=DATE:20230704
DTEND;VALUE=DATE:20230705
DTSTAMP:20260420T205022
CREATED:20221220T205740Z
LAST-MODIFIED:20230704T013823Z
UID:10974-1688428800-1688515199@dallaskenpo.com
SUMMARY:July 4th - All Locations Closed
DESCRIPTION:No classes for July 4th\, 2023.
URL:https://dallaskenpo.com/event/july-4th-all-locations-closed-2023/
CATEGORIES:Featured 1
END:VEVENT
BEGIN:VEVENT
DTSTART;TZID=America/Mexico_City:20230630T180000
DTEND;TZID=America/Mexico_City:20230630T203000
DTSTAMP:20260420T205022
CREATED:20221222T220741Z
LAST-MODIFIED:20230629T022258Z
UID:11003-1688148000-1688157000@dallaskenpo.com
SUMMARY:Kids Belt Test - June
DESCRIPTION:When you have all six of the colored skills stripes\, you may be promoted to the next rank. Younger students are promoted in class\, while students age 7 and up with all of their stripes are eligible for the cumulative belt test on the last Friday of the month. \nThe test is cumulative\, it covers everything you have learned since day one… not just the recent material. \nBelt tests take place at Lakewood Dojo. \nThe only exception to this is if your child is a ZOOM online student only. All other students must test In Person. Zoom tests must be arranged ahead of time with Sensei Genevieve. Email info@dallaskenpo.com ahead of time to arrange a test for a Zoom-only student.
URL:https://dallaskenpo.com/event/kids-belt-test-june-2023/
LOCATION:Lakewood Dojo\, 2114 Kidwell St.\, Dallas\, TX\, 75214\, United States
CATEGORIES:Belt Test,Featured 1,Kids
END:VEVENT
BEGIN:VEVENT
DTSTART;TZID=America/Mexico_City:20230627T183000
DTEND;TZID=America/Mexico_City:20230627T203000
DTSTAMP:20260420T205022
CREATED:20221230T035123Z
LAST-MODIFIED:20230619T235801Z
UID:11060-1687890600-1687897800@dallaskenpo.com
SUMMARY:Instructor Meeting & Training - June
DESCRIPTION:Join us on the last Tuesday of every month for the instructor meeting and training. \nOur instructor training program is designed for the person that wants to become more involved in the martial arts.  It will enable you to either help out with class or to become a fully qualified instructor and run classes yourself\, it’s your choice how involved you become! \n 
URL:https://dallaskenpo.com/event/instructor-meeting-training-june/
LOCATION:Lakewood Dojo\, 2114 Kidwell St.\, Dallas\, TX\, 75214\, United States
CATEGORIES:Adults,Featured 1,Instructor Training
END:VEVENT
BEGIN:VEVENT
DTSTART;VALUE=DATE:20230621
DTEND;VALUE=DATE:20230624
DTSTAMP:20260420T205022
CREATED:20230212T162818Z
LAST-MODIFIED:20240108T030610Z
UID:11373-1687305600-1687564799@dallaskenpo.com
SUMMARY:Keepers of the Flame 2023
DESCRIPTION:Keepers of the Flame is back\, this time with special guests Grand Master George Lim from Arizona and his son Shihan Mikey Lim. \nMore details will be announced soon\, but the rough schedule is as follows: \n\nA Friday evening seminar for adults\nA Saturday morning seminar for our big kids\nA Saturday morning seminar for adults\nSaturday afternoon seminars for adults\nA Sunday morning seminar for adults
URL:https://dallaskenpo.com/event/keepers-of-the-flame-2023/
LOCATION:Lakewood Dojo\, 2114 Kidwell St.\, Dallas\, TX\, 75214\, United States
CATEGORIES:Featured 1,Keepers of the Flame
END:VEVENT
BEGIN:VEVENT
DTSTART;TZID=America/Mexico_City:20230603T110000
DTEND;TZID=America/Mexico_City:20230603T150000
DTSTAMP:20260420T205022
CREATED:20221220T205405Z
LAST-MODIFIED:20230531T031653Z
UID:10968-1685790000-1685804400@dallaskenpo.com
SUMMARY:Adult Belt Test
DESCRIPTION:Belt Testing for our Adult Kenpo group
URL:https://dallaskenpo.com/event/adult-belt-test-2/
LOCATION:Winfrey Point\, 950 E Lawther Dr\, Dallas\, TX\, 75218\, United States
CATEGORIES:Adults,Belt Test,Featured 2
END:VEVENT
BEGIN:VEVENT
DTSTART;TZID=America/Mexico_City:20230601T183000
DTEND;TZID=America/Mexico_City:20230601T200000
DTSTAMP:20260420T205022
CREATED:20221220T204424Z
LAST-MODIFIED:20230531T031613Z
UID:10950-1685644200-1685649600@dallaskenpo.com
SUMMARY:Leadership Class & Meeting
DESCRIPTION:The Leadership Program will meet on the first Thursday of every month\, from 6:30-8:00pm. \nCSSD students can join the leadership program at purple belt and at least 9 years of age\, and all are expected to participate by the time they advance to the rank of blue belt. \nWe will meet the 1st Thursday of every month to learn “instructor training” tips on helping in classes\, to work on fun off-curriculum and advanced material\, to learn about the history of the martial arts and Gasan Ryu Kenpo\, to discuss ways to incorporate leadership skills into other areas of life\, and more! \nClass: 6:30-7:15pm\nMeeting: 7:15-8:00pm
URL:https://dallaskenpo.com/event/leadership-class-meeting-6/
LOCATION:Lakewood Dojo\, 2114 Kidwell St.\, Dallas\, TX\, 75214\, United States
CATEGORIES:Featured 1,Leadership
END:VEVENT
BEGIN:VEVENT
DTSTART;TZID=America/Mexico_City:20230530T183000
DTEND;TZID=America/Mexico_City:20230530T203000
DTSTAMP:20260420T205022
CREATED:20221230T035023Z
LAST-MODIFIED:20221230T035023Z
UID:11058-1685471400-1685478600@dallaskenpo.com
SUMMARY:Instructor Meeting & Training - May
DESCRIPTION:Join us on the last Tuesday of every month for the instructor meeting and training. \nOur instructor training program is designed for the person that wants to become more involved in the martial arts.  It will enable you to either help out with class or to become a fully qualified instructor and run classes yourself\, it’s your choice how involved you become! \n 
URL:https://dallaskenpo.com/event/instructor-meeting-training-may/
LOCATION:Lakewood Dojo\, 2114 Kidwell St.\, Dallas\, TX\, 75214\, United States
CATEGORIES:Adults,Instructor Training
END:VEVENT
BEGIN:VEVENT
DTSTART;VALUE=DATE:20230529
DTEND;VALUE=DATE:20230530
DTSTAMP:20260420T205022
CREATED:20221230T041209Z
LAST-MODIFIED:20230528T164019Z
UID:11082-1685318400-1685404799@dallaskenpo.com
SUMMARY:Memorial Day - All Locations Closed
DESCRIPTION:All locations are closed for Memorial Day\, May 29th\, 2023
URL:https://dallaskenpo.com/event/memorial-day-all-locations-closed-2023/
LOCATION:Lakewood Dojo\, 2114 Kidwell St.\, Dallas\, TX\, 75214\, United States
CATEGORIES:Featured 1
END:VEVENT
BEGIN:VEVENT
DTSTART;TZID=America/Mexico_City:20230519T183000
DTEND;TZID=America/Mexico_City:20230519T200000
DTSTAMP:20260420T205022
CREATED:20221222T220608Z
LAST-MODIFIED:20230517T213358Z
UID:11001-1684521000-1684526400@dallaskenpo.com
SUMMARY:Kids Belt Test - May
DESCRIPTION:When you have all six of the colored skills stripes\, you may be promoted to the next rank. Younger students are promoted in class\, while students age 7 and up with all of their stripes are eligible for the cumulative belt test on the last Friday of the month. \nThe test is cumulative\, it covers everything you have learned since day one… not just the recent material. \nBelt tests take place at Lakewood Dojo. \nThe only exception to this is if your child is a ZOOM online student only. All other students must test In Person. Zoom tests must be arranged ahead of time with Sensei Genevieve. Email info@dallaskenpo.com ahead of time to arrange a test for a Zoom-only student.
URL:https://dallaskenpo.com/event/kids-belt-test-may-2023/
LOCATION:Lakewood Dojo\, 2114 Kidwell St.\, Dallas\, TX\, 75214\, United States
CATEGORIES:Belt Test,Featured 1,Kids
END:VEVENT
BEGIN:VEVENT
DTSTART;TZID=America/Mexico_City:20230504T183000
DTEND;TZID=America/Mexico_City:20230504T200000
DTSTAMP:20260420T205022
CREATED:20221220T204339Z
LAST-MODIFIED:20230427T032226Z
UID:10948-1683225000-1683230400@dallaskenpo.com
SUMMARY:Leadership Class & Meeting
DESCRIPTION:The Leadership Program will meet on the first Thursday of every month\, from 6:30-8:00pm. \nCSSD students can join the leadership program at purple belt and at least 9 years of age\, and all are expected to participate by the time they advance to the rank of blue belt. \nWe will meet the 1st Thursday of every month to learn “instructor training” tips on helping in classes\, to work on fun off-curriculum and advanced material\, to learn about the history of the martial arts and Gasan Ryu Kenpo\, to discuss ways to incorporate leadership skills into other areas of life\, and more! \nClass: 6:30-7:15pm\nMeeting: 7:15-8:00pm
URL:https://dallaskenpo.com/event/leadership-class-meeting-5/
LOCATION:Lakewood Dojo\, 2114 Kidwell St.\, Dallas\, TX\, 75214\, United States
CATEGORIES:Featured 1,Leadership
END:VEVENT
BEGIN:VEVENT
DTSTART;TZID=America/Mexico_City:20230425T183000
DTEND;TZID=America/Mexico_City:20230425T203000
DTSTAMP:20260420T205022
CREATED:20221230T034936Z
LAST-MODIFIED:20230422T011056Z
UID:11056-1682447400-1682454600@dallaskenpo.com
SUMMARY:Instructor Meeting & Training - April
DESCRIPTION:Join us on the last Tuesday of every month for the instructor meeting and training. \nOur instructor training program is designed for the person that wants to become more involved in the martial arts.  It will enable you to either help out with class or to become a fully qualified instructor and run classes yourself\, it’s your choice how involved you become! \n 
URL:https://dallaskenpo.com/event/instructor-meeting-training-april/
LOCATION:Lakewood Dojo\, 2114 Kidwell St.\, Dallas\, TX\, 75214\, United States
CATEGORIES:Adults,Featured 2,Instructor Training
END:VEVENT
BEGIN:VEVENT
DTSTART;TZID=America/Mexico_City:20230423T150000
DTEND;TZID=America/Mexico_City:20230423T170000
DTSTAMP:20260420T205022
CREATED:20230305T213134Z
LAST-MODIFIED:20230422T011044Z
UID:11486-1682262000-1682269200@dallaskenpo.com
SUMMARY:Kids Brown Belt Test
DESCRIPTION:We will have the kids’ bi-annual brown belt test on Saturday\, April 21st\, at 3pm. \nThis is for students testing for any rank within Brown (Brown 3\, 2\,1) and Junior Black Belt. \nRemember\, advanced students MUST be caught up in their leadership program responsibilities in order to test.
URL:https://dallaskenpo.com/event/kids-brown-belt-test/
LOCATION:Lakewood Dojo\, 2114 Kidwell St.\, Dallas\, TX\, 75214\, United States
CATEGORIES:Belt Test,Featured 1,Kids
END:VEVENT
BEGIN:VEVENT
DTSTART;TZID=America/Mexico_City:20230421T183000
DTEND;TZID=America/Mexico_City:20230421T200000
DTSTAMP:20260420T205022
CREATED:20221222T220435Z
LAST-MODIFIED:20230412T031811Z
UID:10999-1682101800-1682107200@dallaskenpo.com
SUMMARY:Kids Belt Test - April
DESCRIPTION:When you have all six of the colored skills stripes\, you may be promoted to the next rank. Younger students are promoted in class\, while students age 7 and up with all of their stripes are eligible for the cumulative belt test on the last Friday of the month. \nThe test is cumulative\, it covers everything you have learned since day one… not just the recent material. \nBelt tests take place at Lakewood Dojo. \nThe only exception to this is if your child is a ZOOM online student only. All other students must test In Person. Zoom tests must be arranged ahead of time with Sensei Genevieve. Email info@dallaskenpo.com ahead of time to arrange a test for a Zoom-only student.
URL:https://dallaskenpo.com/event/kids-belt-test-2023/
LOCATION:Lakewood Dojo\, 2114 Kidwell St.\, Dallas\, TX\, 75214\, United States
CATEGORIES:Belt Test,Featured 1,Kids
END:VEVENT
BEGIN:VEVENT
DTSTART;TZID=America/Mexico_City:20230410T083000
DTEND;TZID=America/Mexico_City:20230410T163000
DTSTAMP:20260420T205022
CREATED:20221230T204736Z
LAST-MODIFIED:20230407T032050Z
UID:11110-1681115400-1681144200@dallaskenpo.com
SUMMARY:Easter Ninja Camp - Monday
DESCRIPTION:Whether they’ve never tried karate before or they’re longstanding students\, if you’re looking to keep your kids moving over the Easter break\, and safely\, try out our Easter Ninja Camp\, where we cover things like: \n\nStriking and kicking drills\nSelf-defense techniques utilizing “shadow partners”\nMartial arts forms (Kata) and history\nPersonal safety tips\nAnd so much more!\n\nRegister Now! \n25% Discount for siblings! \nCamps hours are Friday\, April 7 and Monday\, April 10\, 2023 8:30 am – 4:30 pm. \nEarly drop off is available with registration. We cannot offer late pick up at this time\, due to additional cleaning requirements.  \nIf you are unable to attend camp for a full day\, you may sign up for a partial day.\n\nIf you have questions regarding camp or would like additional information\, please give us a call at: 214-351-5367 or via email at: info@dallaskenpo.co
URL:https://dallaskenpo.com/event/easter-ninja-camp-monday-2/
LOCATION:Lakewood Dojo\, 2114 Kidwell St.\, Dallas\, TX\, 75214\, United States
CATEGORIES:Easter Ninja Camp,Featured 3,Ninja Camp
ATTACH;FMTTYPE=image/png:https://dallaskenpo.com/wp-content/uploads/2021/12/Easter-camp-square.png
END:VEVENT
BEGIN:VEVENT
DTSTART;VALUE=DATE:20230409
DTEND;VALUE=DATE:20230410
DTSTAMP:20260420T205022
CREATED:20221230T040753Z
LAST-MODIFIED:20230407T032033Z
UID:11078-1680998400-1681084799@dallaskenpo.com
SUMMARY:Easter Sunday - All Locations Closed
DESCRIPTION:The dojo is closed for Easter Sunday\, April 9\, 2023.
URL:https://dallaskenpo.com/event/easter-sunday-all-locations-closed-2023/
CATEGORIES:Featured 2
END:VEVENT
BEGIN:VEVENT
DTSTART;VALUE=DATE:20230407
DTEND;VALUE=DATE:20230408
DTSTAMP:20260420T205022
CREATED:20221230T040634Z
LAST-MODIFIED:20230407T032024Z
UID:11076-1680825600-1680911999@dallaskenpo.com
SUMMARY:Easter Ninja Camp 2023 - Friday
DESCRIPTION:Whether they’ve never tried karate before or they’re longstanding students\, if you’re looking to keep your kids moving over the Easter break\, and safely\, try out our Easter Ninja Camp\, where we cover things like: \n\nStriking and kicking drills\nSelf-defense techniques utilizing “shadow partners”\nMartial arts forms (Kata) and history\nPersonal safety tips\nAnd so much more!\n\nRegister Now! \n25% Discount for siblings! \nCamps hours are Friday\, April 7 and Monday\, April 10\, 2023 8:30 am – 4:30 pm. \nEarly drop off is available with registration. We cannot offer late pick up at this time\, due to additional cleaning requirements.  \nIf you are unable to attend camp for a full day\, you may sign up for a partial day.\n\nIf you have questions regarding camp or would like additional information\, please give us a call at: 214-351-5367 or via email at: info@dallaskenpo.co
URL:https://dallaskenpo.com/event/easter-ninja-camp-2023-friday/
LOCATION:Lakewood Dojo\, 2114 Kidwell St.\, Dallas\, TX\, 75214\, United States
CATEGORIES:Easter Ninja Camp,Featured 1,Ninja Camp
ATTACH;FMTTYPE=image/png:https://dallaskenpo.com/wp-content/uploads/2021/12/Easter-camp-square.png
END:VEVENT
BEGIN:VEVENT
DTSTART;TZID=America/Mexico_City:20230406T183000
DTEND;TZID=America/Mexico_City:20230406T200000
DTSTAMP:20260420T205022
CREATED:20221220T204254Z
LAST-MODIFIED:20230401T213638Z
UID:10946-1680805800-1680811200@dallaskenpo.com
SUMMARY:Leadership Class & Meeting
DESCRIPTION:The Leadership Program will meet on the first Thursday of every month\, from 6:30-8:00pm. \nCSSD students can join the leadership program at purple belt and at least 9 years of age\, and all are expected to participate by the time they advance to the rank of blue belt. \nWe will meet the 1st Thursday of every month to learn “instructor training” tips on helping in classes\, to work on fun off-curriculum and advanced material\, to learn about the history of the martial arts and Gasan Ryu Kenpo\, to discuss ways to incorporate leadership skills into other areas of life\, and more! \nClass: 6:30-7:15pm\nMeeting: 7:15-8:00pm
URL:https://dallaskenpo.com/event/leadership-class-meeting-4/
LOCATION:Lakewood Dojo\, 2114 Kidwell St.\, Dallas\, TX\, 75214\, United States
CATEGORIES:Featured 1,Leadership
END:VEVENT
BEGIN:VEVENT
DTSTART;TZID=America/Mexico_City:20230331T183000
DTEND;TZID=America/Mexico_City:20230331T200000
DTSTAMP:20260420T205022
CREATED:20221222T220330Z
LAST-MODIFIED:20230330T001712Z
UID:10997-1680287400-1680292800@dallaskenpo.com
SUMMARY:Kids Belt Test - March
DESCRIPTION:When you have all six of the colored skills stripes\, you may be promoted to the next rank. Younger students are promoted in class\, while students age 7 and up with all of their stripes are eligible for the cumulative belt test on the last Friday of the month. \nThe test is cumulative\, it covers everything you have learned since day one… not just the recent material. \nBelt tests take place at Lakewood Dojo. \nThe only exception to this is if your child is a ZOOM online student only. All other students must test In Person. Zoom tests must be arranged ahead of time with Sensei Genevieve. Email info@dallaskenpo.com ahead of time to arrange a test for a Zoom-only student.
URL:https://dallaskenpo.com/event/kids-belt-test-march-2023/
LOCATION:Lakewood Dojo\, 2114 Kidwell St.\, Dallas\, TX\, 75214\, United States
CATEGORIES:Belt Test,Featured 1,Kids
END:VEVENT
BEGIN:VEVENT
DTSTART;VALUE=DATE:20230325
DTEND;VALUE=DATE:20230326
DTSTAMP:20260420T205022
CREATED:20221230T201632Z
LAST-MODIFIED:20230324T224931Z
UID:11108-1679702400-1679788799@dallaskenpo.com
SUMMARY:Kids Kenpo Invitational Tournament 2023
DESCRIPTION:Everyone get excited! It’s time for the 2023 Kenpo Invitational Tournament\, our end of the school year competition. The competition will be held on Saturday\, March 25th\, 2023 at the Episcopal School of Dallas in the Competition Gymnasium. \nThis is a chance for family and friends to watch our kids compete against each other for individual medals and also one of the three Grand Prize Cups! \nLearn more \nHere is a map to park at Episcopal School of Dallas
URL:https://dallaskenpo.com/event/kids-kenpo-invitational-tournament-2023-2/
LOCATION:Episcopal School of Dallas\, 4344 Colgate Ave\, Dallas\, 75225\, United States
CATEGORIES:Events,Featured 1,Tournament
END:VEVENT
END:VCALENDAR