BEGIN:VCALENDAR
VERSION:2.0
PRODID:-//Chamberlain Studios of Self Defense - ECPv6.15.20//NONSGML v1.0//EN
CALSCALE:GREGORIAN
METHOD:PUBLISH
X-ORIGINAL-URL:https://dallaskenpo.com
X-WR-CALDESC:Events for Chamberlain Studios of Self Defense
REFRESH-INTERVAL;VALUE=DURATION:PT1H
X-Robots-Tag:noindex
X-PUBLISHED-TTL:PT1H
BEGIN:VTIMEZONE
TZID:America/Mexico_City
BEGIN:DAYLIGHT
TZOFFSETFROM:-0600
TZOFFSETTO:-0500
TZNAME:CDT
DTSTART:20250406T080000
END:DAYLIGHT
BEGIN:STANDARD
TZOFFSETFROM:-0500
TZOFFSETTO:-0600
TZNAME:CST
DTSTART:20251026T070000
END:STANDARD
BEGIN:DAYLIGHT
TZOFFSETFROM:-0600
TZOFFSETTO:-0500
TZNAME:CDT
DTSTART:20260405T080000
END:DAYLIGHT
BEGIN:STANDARD
TZOFFSETFROM:-0500
TZOFFSETTO:-0600
TZNAME:CST
DTSTART:20261025T070000
END:STANDARD
BEGIN:DAYLIGHT
TZOFFSETFROM:-0600
TZOFFSETTO:-0500
TZNAME:CDT
DTSTART:20270404T080000
END:DAYLIGHT
BEGIN:STANDARD
TZOFFSETFROM:-0500
TZOFFSETTO:-0600
TZNAME:CST
DTSTART:20271031T070000
END:STANDARD
END:VTIMEZONE
BEGIN:VEVENT
DTSTART;VALUE=DATE:20261002
DTEND;VALUE=DATE:20261005
DTSTAMP:20260422T173604
CREATED:20260106T022814Z
LAST-MODIFIED:20260106T022814Z
UID:17517-1790899200-1791158399@dallaskenpo.com
SUMMARY:Warrior Weekend 2026
DESCRIPTION:Warrior Weekend is the annual Black Belt test for Chamberlain Studios.  Testing includes both Mudansha (colored belts) and Yudansha (graded ranks in Black Belt) levels in Gasan Ryu Kenpo.  The event is done largely outdoors at a facility that contains the elements of: reasonably priced housing\, water access\, open level ground\, commercial kitchen space and indoor space for demonstrations and the promotion ceremony.
URL:https://dallaskenpo.com/event/warrior-weekend-2026/
LOCATION:Camp Kiowa @ Lone Oak Ranch\, 8484 S Farm to Market 372\, Gainesville\, TX\, 76240\, United States
CATEGORIES:Warrior Weekend
END:VEVENT
BEGIN:VEVENT
DTSTART;VALUE=DATE:20261002
DTEND;VALUE=DATE:20261005
DTSTAMP:20260422T173604
CREATED:20260106T022934Z
LAST-MODIFIED:20260106T022934Z
UID:17519-1790899200-1791158399@dallaskenpo.com
SUMMARY:Dojo Closed for Warrior Weekend
DESCRIPTION:The dojo is closed for Warrior Weekend.
URL:https://dallaskenpo.com/event/dojo-closed-for-warrior-weekend-4/
CATEGORIES:Warrior Weekend
END:VEVENT
END:VCALENDAR