BEGIN:VCALENDAR
VERSION:2.0
PRODID:-//Chamberlain Studios of Self Defense - ECPv6.15.20//NONSGML v1.0//EN
CALSCALE:GREGORIAN
METHOD:PUBLISH
X-WR-CALNAME:Chamberlain Studios of Self Defense
X-ORIGINAL-URL:https://dallaskenpo.com
X-WR-CALDESC:Events for Chamberlain Studios of Self Defense
REFRESH-INTERVAL;VALUE=DURATION:PT1H
X-Robots-Tag:noindex
X-PUBLISHED-TTL:PT1H
BEGIN:VTIMEZONE
TZID:America/Mexico_City
BEGIN:DAYLIGHT
TZOFFSETFROM:-0600
TZOFFSETTO:-0500
TZNAME:CDT
DTSTART:20250406T080000
END:DAYLIGHT
BEGIN:STANDARD
TZOFFSETFROM:-0500
TZOFFSETTO:-0600
TZNAME:CST
DTSTART:20251026T070000
END:STANDARD
BEGIN:DAYLIGHT
TZOFFSETFROM:-0600
TZOFFSETTO:-0500
TZNAME:CDT
DTSTART:20260405T080000
END:DAYLIGHT
BEGIN:STANDARD
TZOFFSETFROM:-0500
TZOFFSETTO:-0600
TZNAME:CST
DTSTART:20261025T070000
END:STANDARD
BEGIN:DAYLIGHT
TZOFFSETFROM:-0600
TZOFFSETTO:-0500
TZNAME:CDT
DTSTART:20270404T080000
END:DAYLIGHT
BEGIN:STANDARD
TZOFFSETFROM:-0500
TZOFFSETTO:-0600
TZNAME:CST
DTSTART:20271031T070000
END:STANDARD
END:VTIMEZONE
BEGIN:VEVENT
DTSTART;TZID=America/Mexico_City:20260110T130000
DTEND;TZID=America/Mexico_City:20260110T153000
DTSTAMP:20260422T213257
CREATED:20260105T014516Z
LAST-MODIFIED:20260106T031017Z
UID:17415-1768050000-1768059000@dallaskenpo.com
SUMMARY:Weapons Seminar: Nunchucku & Kama
DESCRIPTION:Professor Chamberlain is teaching two weapons katas on Saturday January 10: Nunchuku and Kama. \nNunchuku: 1-2 pm \nKama: 2-3 pm \nThese seminars are for age 7 and up. $45 for each seminar. \nThis year we will have two weapons kata divisions: one for ranks up to 2nd Blue\, and another for Green belts and up. \nPlease contact Sensei Genevieve with any questions on weapons.
URL:https://dallaskenpo.com/event/17415/
LOCATION:Lakewood Dojo\, 2114 Kidwell St.\, Dallas\, TX\, 75214\, United States
CATEGORIES:Featured 2,Tournament
END:VEVENT
END:VCALENDAR