BEGIN:VCALENDAR
VERSION:2.0
PRODID:-//Chamberlain Studios of Self Defense - ECPv6.15.20//NONSGML v1.0//EN
CALSCALE:GREGORIAN
METHOD:PUBLISH
X-WR-CALNAME:Chamberlain Studios of Self Defense
X-ORIGINAL-URL:https://dallaskenpo.com
X-WR-CALDESC:Events for Chamberlain Studios of Self Defense
REFRESH-INTERVAL;VALUE=DURATION:PT1H
X-Robots-Tag:noindex
X-PUBLISHED-TTL:PT1H
BEGIN:VTIMEZONE
TZID:America/Mexico_City
BEGIN:DAYLIGHT
TZOFFSETFROM:-0600
TZOFFSETTO:-0500
TZNAME:CDT
DTSTART:20230402T080000
END:DAYLIGHT
BEGIN:STANDARD
TZOFFSETFROM:-0500
TZOFFSETTO:-0600
TZNAME:CST
DTSTART:20231029T070000
END:STANDARD
BEGIN:DAYLIGHT
TZOFFSETFROM:-0600
TZOFFSETTO:-0500
TZNAME:CDT
DTSTART:20240407T080000
END:DAYLIGHT
BEGIN:STANDARD
TZOFFSETFROM:-0500
TZOFFSETTO:-0600
TZNAME:CST
DTSTART:20241027T070000
END:STANDARD
BEGIN:DAYLIGHT
TZOFFSETFROM:-0600
TZOFFSETTO:-0500
TZNAME:CDT
DTSTART:20250406T080000
END:DAYLIGHT
BEGIN:STANDARD
TZOFFSETFROM:-0500
TZOFFSETTO:-0600
TZNAME:CST
DTSTART:20251026T070000
END:STANDARD
END:VTIMEZONE
BEGIN:VEVENT
DTSTART;TZID=America/Mexico_City:20241026T090000
DTEND;TZID=America/Mexico_City:20241026T101500
DTSTAMP:20260419T184149
CREATED:20240108T031859Z
LAST-MODIFIED:20241010T001404Z
UID:13369-1729933200-1729937700@dallaskenpo.com
SUMMARY:Kids Halloween Party
DESCRIPTION:Wear your costume to the dojo on Saturday morning for a Halloween Party! We’ll have food\, games\, and more!
URL:https://dallaskenpo.com/event/kids-halloween-party-2/
LOCATION:Lakewood Dojo\, 2114 Kidwell St.\, Dallas\, TX\, 75214\, United States
CATEGORIES:Featured 2,Kids Halloween Party
END:VEVENT
END:VCALENDAR